BEGIN:VCALENDAR
VERSION:2.0
PRODID:-//Squarespace Inc/Squarespace 6//v6//EN
BEGIN:VEVENT
UID:5f9ddb09f3bdaa66b9aee3f3@squarespace.com
DTSTAMP:20201113T025506Z
DTSTART:20201115T010000Z
DTEND:20201115T020000Z
SUMMARY:Ko Aotearoa Tātou
END:VEVENT
END:VCALENDAR
